Workbook

Sheet Famille
E1: FORMULAIRE D'INSCRIPTION SEJOUR FAMILLE
E2: SF F1 - du 14 février au 21 février 2026
E3: SF F2 - du 21 février au 28 février 2026
E4: SF F3 - du 28 février au 7 mars 2026
B5: Merci d'enregistrer ce document sur votre ordinateur avec le NOM du CAMP (SF F1 - SF F2 ou SF F3) le NOM de votre famille et prénom d'un responsable. (Exemple : SF F1 - WOJTYLA Karol) Après avoir renseigné tous les champs, merci de nous retourner ce formulaire (un seul formulaire par famille) par mail à : secretariat@eauvive.info
B7: CHOIX DU CAMP | E7: cellule en bleu, liste déroulante | F7: ARRIVEE | G7: ENTRE 16H ET 18H30 | I7: DEPART
J8: CHAMBRES LIBEREES ET NETTOYEES
B9: FAMILLE PARENTS/INDIVIDUELS
B10: 1 | C10: Civilité | G10: 2 | H10: Civilité
C11: NOM | H11: NOM
C12: PRENOM | H12: PRENOM
C13: date de naissance | H13: date de naissance
C14: profession | H14: profession
C15: tél port | H15: tél port
C16: tél autre | H16: tél autre
C17: mail | H17: mail
C18: adresse postale
C19: complément | H19: Chambre couple pour | I19: 2 adultes
C20: code postal | H20: 1ère Chambre enfant pour | I20: 2 enfants | J20: La répartition se fera en fonction de nos possibilités d'accueil
C21: ville | H21: 2ème Chambre enfant pour
C22: pays
B25: ENFANT 1 - CHAMBRE | G25: ENFANT 2 - CHAMBRE
C26: NOM | H26: NOM
C27: PRENOM | H27: PRENOM
C28: date de naissance | H28: date de naissance
C29: sexe | H29: sexe
B31: ENFANT 3 - CHAMBRE | G31: ENFANT 4 - CHAMBRE
C32: NOM | H32: NOM
C33: PRENOM | H33: PRENOM
C34: date de naissance | H34: date de naissance
C35: sexe | H35: sexe
B37: ENFANT 5 - CHAMBRE | G37: ENFANT 6 - CHAMBRE
C38: NOM | H38: NOM
C39: PRENOM | H39: PRENOM
C40: date de naissance | H40: date de naissance
C41: sexe | H41: sexe
C44: PANIER | H44: DOSSIER
F45: Participants
C46: Séjour adultes et + de 15 ans | E46: 290 | F46: 1 | G46: =E46*F46 -> 290 | H46: 8RAPPEL Dossier à envoyer par mail :
C47: Séjour enfants 3 à 14 ans | E47: 207 | G47: =E47*F47 -> 0 | H47: aFormulaire d'inscription (à enregistrer dans votre ordinateur)
C48: Lit parapluie | E48: mis à disposition | G48: 0 | H48:  à envoyer par la poste :
C49: Forfait RM 15 à 64 ans | E49: 251 | G49: =E49*F49 -> 0 | H49: a Enveloppe timbrée à 20gr, libellée à vos nom et adresse
C50: Forfait RM 6 à 14 ans | E50: 201 | G50: =E50*F50 -> 0 | H50: a Chèque de caution de 400€
C51: Location draps | E51: 15 | G51: =E51*F51 -> 0
C52: Location skis | E52: 50 | G52: =E52*F52 -> 0 | H52: a Règlement du panier par chèque, virement ou ANCV (+18€)
C53: Don
C54: Règlement par | G54: =IF(E54="Chèque ANCV",15,) -> 0
F55: TOTAL | G55: =SUM(G46:G54) -> 290
B59: L'Eau Vive - 174 rue du Faubourg Saint Honoré 75008 Paris - secretariat@eauvive.info Chèque à l'ordre de L'Eau Vive AGEV - Virement (libellé avec nom du camp et nom de la Famille) FR27 3000 2006 9400 0000 5998 C90

Sheet Feuil1
A1: =Famille!D7 -> 0 | B1: =Famille!$D$11 -> 0 | C1: =Famille!D10 -> 0 | D1: =Famille!E11 -> 0 | E1: =Famille!D12 -> 0 | F1: =Famille!D18 -> 0 | G1: =IF(ISBLANK(Famille!D19),"",(Famille!D19)) | H1: =Famille!D20 -> 0 | I1: =Famille!D21 -> 0 | J1: =Famille!D22 -> 0 | K1: =Famille!D17 -> 0 | L1: =Famille!D15 -> 0 | M1: =Famille!D16 -> 0 | N1: =Famille!D14 -> 0 | O1: =Famille!I10 -> 0 | P1: =Famille!I11 -> 0 | Q1: =Famille!J11 -> 0 | R1: =Famille!I12 -> 0 | S1: =Famille!I17 -> 0 | T1: =Famille!I15 -> 0 | U1: =Famille!I16 -> 0 | V1: =Famille!I14 -> 0 | W1: =Famille!D26 -> 0 | X1: =Famille!E26 -> 0 | Y1: =Famille!D27 -> 0 | Z1: =Famille!D28 -> 0 | AA1: =Famille!D29 -> 0 | AB1: =Famille!#REF! -> #REF! | AC1: =Famille!#REF! -> #REF! | AD1: =Famille!#REF! -> #REF! | AE1: =Famille!#REF! -> #REF! | AF1: =Famille!#REF! -> #REF! | AG1: =Famille!#REF! -> #REF! | AH1: =Famille!#REF! -> #REF! | AI1: =Famille!#REF! -> #REF! | ... AN1: =Famille!#REF! -> #REF! | AO1: =Famille!E48 -> mis à disposition | AP1: =Famille!F47 -> 0 | AQ1: =Famille!#REF! -> #REF! | AR1: =Famille!#REF! -> #REF! | AS1: =Famille!E51 -> 15 | AT1: =Famille!E52 -> 50 | AU1: =Famille!#REF! -> #REF! | AV1: =Famille!#REF! -> #REF! | AW1: =Famille!#REF! -> #REF! | AX1: =Famille!#REF! -> #REF! | AY1: =Famille!#REF! -> #REF! | AZ1: =Famille!#REF! -> #REF! | BA1: =Famille!G46 -> 290 | BB1: =Famille!G47 -> 0 | BC1: =Famille!#REF! -> #REF! | BD1: =Famille!G48 -> 0 | BE1: =Famille!G51 -> 0 | BF1: =Famille!G52 -> 0 | BG1: =Famille!#REF! -> #REF! | BH1: =Famille!#REF! -> #REF! | BI1: =Famille!G53 -> 0 | BJ1: =Famille!I26 -> 0 | BK1: 1
